BEGIN:VCALENDAR
VERSION:2.0
CALSCALE:GREGORIAN
PRODID:adamgibbons/ics
METHOD:PUBLISH
X-PUBLISHED-TTL:PT1H
BEGIN:VEVENT
UID:5@newfoundlandaskapunk.ca
SUMMARY:Live At Downtown Comics! All Ages
DTSTAMP:20260419T153957Z
DTSTART:20260419T183000Z
URL:https://newfoundlandaskapunk.ca/event/live-at-downtown-comics-all-ages
LOCATION:Downtown Comics - 141 Duckworth Street
STATUS:CONFIRMED
CATEGORIES:All Ages
END:VEVENT
BEGIN:VEVENT
UID:2@newfoundlandaskapunk.ca
SUMMARY:Terminator All Ages
DTSTAMP:20260419T153957Z
DTSTART:20260425T153000Z
DTEND:20260425T193000Z
URL:https://newfoundlandaskapunk.ca/event/terminator-all-ages
LOCATION:The Black Sheep - 5 George Street
STATUS:CONFIRMED
CATEGORIES:All Ages
END:VEVENT
BEGIN:VEVENT
UID:9@newfoundlandaskapunk.ca
SUMMARY:Auditing\, Swimming\, Crusher\, It Chooses You\, Floorwalker
DTSTAMP:20260419T153957Z
DTSTART:20260516T213000Z
URL:https://newfoundlandaskapunk.ca/event/auditing-swimming-crusher-it-choo
	ses-you-floorwalker
LOCATION:The Bad Times Club - Ask Around
STATUS:CONFIRMED
CATEGORIES:All Ages
END:VEVENT
END:VCALENDAR
